BEGIN:VCALENDAR
VERSION:2.0
PRODID:-//South Wales Outdoor Activity Providers Group - ECPv6.15.20//NONSGML v1.0//EN
CALSCALE:GREGORIAN
METHOD:PUBLISH
X-WR-CALNAME:South Wales Outdoor Activity Providers Group
X-ORIGINAL-URL:https://swoapg.com
X-WR-CALDESC:Events for South Wales Outdoor Activity Providers Group
REFRESH-INTERVAL;VALUE=DURATION:PT1H
X-Robots-Tag:noindex
X-PUBLISHED-TTL:PT1H
BEGIN:VTIMEZONE
TZID:Europe/London
BEGIN:DAYLIGHT
TZOFFSETFROM:+0000
TZOFFSETTO:+0100
TZNAME:BST
DTSTART:20230326T010000
END:DAYLIGHT
BEGIN:STANDARD
TZOFFSETFROM:+0100
TZOFFSETTO:+0000
TZNAME:GMT
DTSTART:20231029T010000
END:STANDARD
BEGIN:DAYLIGHT
TZOFFSETFROM:+0000
TZOFFSETTO:+0100
TZNAME:BST
DTSTART:20240331T010000
END:DAYLIGHT
BEGIN:STANDARD
TZOFFSETFROM:+0100
TZOFFSETTO:+0000
TZNAME:GMT
DTSTART:20241027T010000
END:STANDARD
BEGIN:DAYLIGHT
TZOFFSETFROM:+0000
TZOFFSETTO:+0100
TZNAME:BST
DTSTART:20250330T010000
END:DAYLIGHT
BEGIN:STANDARD
TZOFFSETFROM:+0100
TZOFFSETTO:+0000
TZNAME:GMT
DTSTART:20251026T010000
END:STANDARD
END:VTIMEZONE
BEGIN:VEVENT
DTSTART;TZID=Europe/London:20241031T000000
DTEND;TZID=Europe/London:20241101T235959
DTSTAMP:20260419T235747
CREATED:20241016T133813Z
LAST-MODIFIED:20241016T133913Z
UID:9688-1730332800-1730505599@swoapg.com
SUMMARY:31 Oct-1 Nov 2024 Lowland Leader Training (by Outdoor Matters)
DESCRIPTION:Join us for 2 days building the skills and knowledge required to lead groups in Lowland terrain in the UK. This Mountain Training approved course is run by an experienced trainer and includes post course support and learning material.£160\, Gower
URL:https://swoapg.com/event/31-oct-1-nov-2024-lowland-leader-training-by-outdoor-matters/
CATEGORIES:Our Members' Events
ORGANIZER;CN="Outdoor Matters (Matt Woodfield)":MAILTO:climbwithmatt@gmail.com
END:VEVENT
BEGIN:VEVENT
DTSTART;TZID=Europe/London:20241024T000000
DTEND;TZID=Europe/London:20241025T235959
DTSTAMP:20260419T235747
CREATED:20240910T210203Z
LAST-MODIFIED:20240910T210206Z
UID:9604-1729728000-1729900799@swoapg.com
SUMMARY:24-25 Oct 2024 NCC Guide Award Training (by Tom Partridge)
DESCRIPTION:£150ppNCC Guide Award Assessments on request
URL:https://swoapg.com/event/24-25-oct-2024-ncc-guide-award-training-by-tom-partridge/
CATEGORIES:Our Members' Events
ORGANIZER;CN="Tom Partridge":MAILTO:tompartridge@ymail.com
END:VEVENT
BEGIN:VEVENT
DTSTART;TZID=Europe/London:20241024T000000
DTEND;TZID=Europe/London:20241025T235959
DTSTAMP:20260419T235747
CREATED:20240910T205347Z
LAST-MODIFIED:20240910T211416Z
UID:9598-1729728000-1729900799@swoapg.com
SUMMARY:24-25 Oct 2024 Climbing Wall Instructor Training (by Outdoor Matters)
DESCRIPTION:Join us for 2 days building the skills and knowledge required to take groups climbing indoors. This Mountain Training approved course is run by an experienced trainer and includes post course support and learning material.£160\, Swansea
URL:https://swoapg.com/event/24-25-oct-2024-climbing-wall-instructor-training-by-outdoor-matters/
CATEGORIES:Our Members' Events
ORGANIZER;CN="Outdoor Matters (Matt Woodfield)":MAILTO:climbwithmatt@gmail.com
END:VEVENT
BEGIN:VEVENT
DTSTART;TZID=Europe/London:20241016T000000
DTEND;TZID=Europe/London:20241018T235959
DTSTAMP:20260419T235747
CREATED:20240910T204804Z
LAST-MODIFIED:20240910T211453Z
UID:9588-1729036800-1729295999@swoapg.com
SUMMARY:16-18 Oct 2024 Hill & Moorland Leader Training (by Outdoor Matters)
DESCRIPTION:Join us for 3 days building the skills and knowledge required to lead groups in Hill & Moorland terrain in the UK. This Mountain Training approved course is run by an experienced trainer and includes post course support and learning material.£240\, Abercraf
URL:https://swoapg.com/event/16-18-oct-2024-hill-moorland-leader-training-by-outdoor-matters/
CATEGORIES:Our Members' Events
ORGANIZER;CN="Outdoor Matters (Matt Woodfield)":MAILTO:climbwithmatt@gmail.com
END:VEVENT
BEGIN:VEVENT
DTSTART;TZID=Europe/London:20240927T000000
DTEND;TZID=Europe/London:20240927T235959
DTSTAMP:20260419T235747
CREATED:20240910T204146Z
LAST-MODIFIED:20240910T211523Z
UID:9578-1727395200-1727481599@swoapg.com
SUMMARY:27 Sep 2024 Camping Leader Assessment (by Outdoor Matters)
DESCRIPTION:Join us for a day demonstrating the skills and knowledge required to lead groups camping. We run a calm and relaxed assessment where you are given the opportunity to perform at your best and encouraged to learn something new too.£90\, Abercraf
URL:https://swoapg.com/event/27-sep-2024-camping-leader-assessment-by-outdoor-matters/
CATEGORIES:Our Members' Events
ORGANIZER;CN="Outdoor Matters (Matt Woodfield)":MAILTO:climbwithmatt@gmail.com
END:VEVENT
BEGIN:VEVENT
DTSTART;TZID=Europe/London:20240828T000000
DTEND;TZID=Europe/London:20240829T235959
DTSTAMP:20260419T235747
CREATED:20240801T104343Z
LAST-MODIFIED:20240801T104346Z
UID:9490-1724803200-1724975999@swoapg.com
SUMMARY:28-29 Aug 2024 Lowland Hill Leader Training (by Plas Pencelli)
DESCRIPTION:£160pp. Contact organiser for details and booking.
URL:https://swoapg.com/event/28-29-aug-2024-lowland-hill-leader-training-by-plas-pencelli/
LOCATION:Plas Pencelli Outdoor Education Centre\, Pencelli\, Brecon\, Powys\, LD3 7LX\, United Kingdom
CATEGORIES:Our Members' Events
ORGANIZER;CN="Plas Pencelli Outdoor Education Centre":MAILTO:office@plaspencelli.co.uk
END:VEVENT
BEGIN:VEVENT
DTSTART;TZID=Europe/London:20240815T000000
DTEND;TZID=Europe/London:20240815T235959
DTSTAMP:20260419T235747
CREATED:20240801T104211Z
LAST-MODIFIED:20240801T104214Z
UID:9488-1723680000-1723766399@swoapg.com
SUMMARY:15 Aug 2024 Camping Leader Assessment (by Plas Pencelli)
DESCRIPTION:£90pp. Contact organiser for details and booking.
URL:https://swoapg.com/event/15-aug-2024-camping-leader-assessment-by-plas-pencelli/
LOCATION:Plas Pencelli Outdoor Education Centre\, Pencelli\, Brecon\, Powys\, LD3 7LX\, United Kingdom
CATEGORIES:Our Members' Events
ORGANIZER;CN="Plas Pencelli Outdoor Education Centre":MAILTO:office@plaspencelli.co.uk
END:VEVENT
BEGIN:VEVENT
DTSTART;TZID=Europe/London:20240813T000000
DTEND;TZID=Europe/London:20240814T235959
DTSTAMP:20260419T235747
CREATED:20240801T104023Z
LAST-MODIFIED:20240801T104041Z
UID:9485-1723507200-1723679999@swoapg.com
SUMMARY:13-14 Aug 2024 Lowland Leader Assessment (by Plas Pencelli)
DESCRIPTION:£195pp. Contact organiser for details and booking.
URL:https://swoapg.com/event/13-14-aug-2024-lowland-leader-assessment-by-plas-pencelli/
LOCATION:Plas Pencelli Outdoor Education Centre\, Pencelli\, Brecon\, Powys\, LD3 7LX\, United Kingdom
CATEGORIES:Our Members' Events
ORGANIZER;CN="Plas Pencelli Outdoor Education Centre":MAILTO:office@plaspencelli.co.uk
END:VEVENT
BEGIN:VEVENT
DTSTART;TZID=Europe/London:20240812T000000
DTEND;TZID=Europe/London:20240814T235959
DTSTAMP:20260419T235747
CREATED:20240801T103918Z
LAST-MODIFIED:20240801T103922Z
UID:9478-1723420800-1723679999@swoapg.com
SUMMARY:12-14 Aug 2024 Hill and Moorland Leader Assessment (by Plas Pencelli)
DESCRIPTION:£305pp. Contact organiser for details and booking.
URL:https://swoapg.com/event/12-14-aug-2024-hill-and-moorland-leader-assessment-by-plas-pencelli/
LOCATION:Plas Pencelli Outdoor Education Centre\, Pencelli\, Brecon\, Powys\, LD3 7LX\, United Kingdom
CATEGORIES:Our Members' Events
ORGANIZER;CN="Plas Pencelli Outdoor Education Centre":MAILTO:office@plaspencelli.co.uk
END:VEVENT
BEGIN:VEVENT
DTSTART;TZID=Europe/London:20240711T000000
DTEND;TZID=Europe/London:20240712T235959
DTSTAMP:20260419T235748
CREATED:20231002T123343Z
LAST-MODIFIED:20231002T123346Z
UID:8380-1720656000-1720828799@swoapg.com
SUMMARY:11-12 Jul 2024 Lowland Leader Training (by Outdoor Matters)
DESCRIPTION:Join us for 2 days building the skills and knowledge required to lead groups in Lowland terrain in the UK. This Mountain Training approved course is run by an experienced trainer and includes post course support and learning material.  \n\n\n\n£160\, Gower
URL:https://swoapg.com/event/11-12-jul-2024-lowland-leader-training-by-outdoor-matters/
CATEGORIES:Our Members' Events
ORGANIZER;CN="Outdoor Matters (Matt Woodfield)":MAILTO:climbwithmatt@gmail.com
END:VEVENT
BEGIN:VEVENT
DTSTART;TZID=Europe/London:20240701T000000
DTEND;TZID=Europe/London:20240705T235959
DTSTAMP:20260419T235748
CREATED:20240107T205923Z
LAST-MODIFIED:20240107T210011Z
UID:8700-1719792000-1720223999@swoapg.com
SUMMARY:1-5 Jul 2024 RLSS Core TA with NWSMP Specialism (by Tom Partridge)
DESCRIPTION:Based in South Wales \n\n\n\n£675pp
URL:https://swoapg.com/event/1-5-jul-2024-rlss-core-ta-with-nwsmp-specialism-by-tom-partridge/
CATEGORIES:Our Members' Events
ORGANIZER;CN="Tom Partridge":MAILTO:tompartridge@ymail.com
END:VEVENT
BEGIN:VEVENT
DTSTART;TZID=Europe/London:20240518T000000
DTEND;TZID=Europe/London:20240519T235959
DTSTAMP:20260419T235748
CREATED:20240220T223252Z
LAST-MODIFIED:20240220T223255Z
UID:8974-1715990400-1716163199@swoapg.com
SUMMARY:18-19 May 2024 British Canoeing Paddlesport Instructor Award course (by Steve Rayner Outdoor Pursuits)
DESCRIPTION:The British Canoeing Paddlesport Instructor qualification is for people aged 14+ whose main focus of work is delivering paddlesport taster/starter sessions within clubs\, centres or other organisations. The qualification is not discipline specific and is suitable for instructors who work with paddlers from any of the competitive and non-competitive paddlesport disciplines. \n\n\n\nThe process of completing the qualification aims to help prepare candidates for their first paddlesport instructing role; ‘primed and ready’. \n\n\n\nVenue: Brecon area \n\n\n\nCost £200 per person (non-residential). \n\n\n\nCandidates need to: \n\n\n\n\nbe aged 14 or over;\n\n\n\nbe members of Canoe Wales / British Canoeing (etc.);\n\n\n\nregister for the Award with Canoe Wales / British Canoeing (etc.) – cost £46.80;\n\n\n\nhave attended a British Canoeing Awarding Body Paddlesport Safety & Rescue or Foundation Safety and Rescue Training (FSRT) course; and\n\n\n\nhave personal paddling (equivalent to the former 2*-level) and rescue competence in one type of craft (kayak\, open canoe\, sit on top\, or stand up paddleboard).
URL:https://swoapg.com/event/18-19-may-2024-british-canoeing-paddlesport-instructor-award-course-by-steve-rayner-outdoor-pursuits/
CATEGORIES:Our Members' Events
ORGANIZER;CN="Steve Rayner Outdoor Pursuits":MAILTO:steve.rayner@brynbolgoed.co.uk
END:VEVENT
BEGIN:VEVENT
DTSTART;TZID=Europe/London:20240518T000000
DTEND;TZID=Europe/London:20240519T235959
DTSTAMP:20260419T235748
CREATED:20231002T123247Z
LAST-MODIFIED:20231002T123252Z
UID:8378-1715990400-1716163199@swoapg.com
SUMMARY:18-19 May 2024 Lowland Leader Training (by Outdoor Matters)
DESCRIPTION:Join us for 2 days building the skills and knowledge required to lead groups in Lowland terrain in the UK. This Mountain Training approved course is run by an experienced trainer and includes post course support and learning material.  \n\n\n\n£160\, Gower
URL:https://swoapg.com/event/18-19-may-2024-lowland-leader-training-by-outdoor-matters/
CATEGORIES:Our Members' Events
ORGANIZER;CN="Outdoor Matters (Matt Woodfield)":MAILTO:climbwithmatt@gmail.com
END:VEVENT
BEGIN:VEVENT
DTSTART;TZID=Europe/London:20240517T000000
DTEND;TZID=Europe/London:20240517T235959
DTSTAMP:20260419T235748
CREATED:20231002T123155Z
LAST-MODIFIED:20231002T123158Z
UID:8376-1715904000-1715990399@swoapg.com
SUMMARY:17 May 2024 Camping Leader Assessment (by Outdoor Matters)
DESCRIPTION:Join us for a day demonstrating the skills and knowledge required to lead groups camping. We run a calm and relaxed assessment where you are given the opportunity to perform at your best and encouraged to learn something new too. \n\n\n\n£90\, Abercraf
URL:https://swoapg.com/event/17-may-2024-camping-leader-assessment-by-outdoor-matters/
CATEGORIES:Our Members' Events
ORGANIZER;CN="Outdoor Matters (Matt Woodfield)":MAILTO:climbwithmatt@gmail.com
END:VEVENT
BEGIN:VEVENT
DTSTART;TZID=Europe/London:20240516T000000
DTEND;TZID=Europe/London:20240517T235959
DTSTAMP:20260419T235748
CREATED:20240107T205814Z
LAST-MODIFIED:20240107T205817Z
UID:8698-1715817600-1715990399@swoapg.com
SUMMARY:16-17 May 2024 NCC Coasteering Guide Award Training (by Tom Partridge) 
DESCRIPTION:Based on Gower and Pembrokeshire \n\n\n\n£150pp \n\n\n\nDelivered by Tom Partridge & Gary Evans
URL:https://swoapg.com/event/16-17-may-2024-ncc-coasteering-guide-award-training-by-tom-partridge/
CATEGORIES:Our Members' Events
ORGANIZER;CN="Tom Partridge":MAILTO:tompartridge@ymail.com
END:VEVENT
BEGIN:VEVENT
DTSTART;TZID=Europe/London:20240508T000000
DTEND;TZID=Europe/London:20240510T235959
DTSTAMP:20260419T235748
CREATED:20231002T123050Z
LAST-MODIFIED:20231002T123055Z
UID:8374-1715126400-1715385599@swoapg.com
SUMMARY:8-10 May 2024 Hill & Moorland Leader Training (by Outdoor Matters)
DESCRIPTION:Join us for 3 days building the skills and knowledge required to lead groups in Hill & Moorland terrain in the UK. This Mountain Training approved course is run by an experienced trainer and includes post course support and learning material.  \n\n\n\n£240\, Abercraf
URL:https://swoapg.com/event/8-10-may-2024-hill-moorland-leader-training-by-outdoor-matters/
CATEGORIES:Our Members' Events
ORGANIZER;CN="Outdoor Matters (Matt Woodfield)":MAILTO:climbwithmatt@gmail.com
END:VEVENT
BEGIN:VEVENT
DTSTART;TZID=Europe/London:20240502T000000
DTEND;TZID=Europe/London:20240503T235959
DTSTAMP:20260419T235748
CREATED:20231002T122956Z
LAST-MODIFIED:20231002T123000Z
UID:8372-1714608000-1714780799@swoapg.com
SUMMARY:2-3 May 2024 Lowland Leader Assessment (by Outdoor Matters)
DESCRIPTION:Spend 2 days demonstrating the skills and knowledge required to lead groups in Lowland terrain in the UK. We run a calm and relaxed assessment where you are given the opportunity to perform at your best and encouraged to learn something new too. \n\n\n\n£170\, Gower
URL:https://swoapg.com/event/2-3-may-2024-lowland-leader-assessment-by-outdoor-matters/
CATEGORIES:Our Members' Events
ORGANIZER;CN="Outdoor Matters (Matt Woodfield)":MAILTO:climbwithmatt@gmail.com
END:VEVENT
BEGIN:VEVENT
DTSTART;TZID=Europe/London:20240417T000000
DTEND;TZID=Europe/London:20240419T235959
DTSTAMP:20260419T235748
CREATED:20231002T122855Z
LAST-MODIFIED:20231002T122859Z
UID:8370-1713312000-1713571199@swoapg.com
SUMMARY:17-19 Apr 2024 Hill & Moorland Leader Assessment (by Outdoor Matters)
DESCRIPTION:Join us for 3 days demonstrating the skills and knowledge required to lead groups in Hill & Moorland terrain in the UK. We run a calm and relaxed assessment where you are given the opportunity to perform at your best and encouraged to learn something new too. \n\n\n\n£260\, Abercraf
URL:https://swoapg.com/event/17-19-apr-2024-hill-moorland-leader-assessment-by-outdoor-matters/
CATEGORIES:Our Members' Events
ORGANIZER;CN="Outdoor Matters (Matt Woodfield)":MAILTO:climbwithmatt@gmail.com
END:VEVENT
BEGIN:VEVENT
DTSTART;TZID=Europe/London:20240410T000000
DTEND;TZID=Europe/London:20240411T235959
DTSTAMP:20260419T235748
CREATED:20231002T122751Z
LAST-MODIFIED:20231002T122755Z
UID:8368-1712707200-1712879999@swoapg.com
SUMMARY:10-11 Apr 2024 Hill & Moorland Leader Training (by Outdoor Matters)
DESCRIPTION:Join us for 3 days building the skills and knowledge required to lead groups in Hill & Moorland terrain in the UK. This Mountain Training approved course is run by an experienced trainer and includes post course support and learning material.  \n\n\n\n£240\, Abercraf
URL:https://swoapg.com/event/10-11-apr-2024-hill-moorland-leader-training-by-outdoor-matters/
CATEGORIES:Our Members' Events
ORGANIZER;CN="Outdoor Matters (Matt Woodfield)":MAILTO:climbwithmatt@gmail.com
END:VEVENT
BEGIN:VEVENT
DTSTART;TZID=Europe/London:20240404T000000
DTEND;TZID=Europe/London:20240405T235959
DTSTAMP:20260419T235748
CREATED:20231114T212739Z
LAST-MODIFIED:20231114T212741Z
UID:8548-1712188800-1712361599@swoapg.com
SUMMARY:4-5 Apr 2024 Mountain Training Rock Skills Intermediate (2 days) (by RockUK Summit Centre)
DESCRIPTION:Cost £100.00 pp
URL:https://swoapg.com/event/4-5-apr-2024-mountain-training-rock-skills-intermediate-2-days-by-rockuk-summit-centre/
LOCATION:RockUK Summit Centre\, The Old Drift Mine\, Treharris\, CF46 6RD\, United Kingdom
CATEGORIES:Our Members' Events
ORGANIZER;CN="Joe Lewis":MAILTO:Joe.Lewis@rockuk.org
END:VEVENT
BEGIN:VEVENT
DTSTART;TZID=Europe/London:20240329T000000
DTEND;TZID=Europe/London:20240329T235959
DTSTAMP:20260419T235748
CREATED:20231114T212613Z
LAST-MODIFIED:20231114T212617Z
UID:8546-1711670400-1711756799@swoapg.com
SUMMARY:29 Mar 2024 Mountain Training Rock Skills Introduction (1 day) (by RockUK Summit Centre)
DESCRIPTION:Cost £65.00 pp
URL:https://swoapg.com/event/29-mar-2024-mountain-training-rock-skills-introduction-1-day-by-rockuk-summit-centre/
LOCATION:RockUK Summit Centre\, The Old Drift Mine\, Treharris\, CF46 6RD\, United Kingdom
CATEGORIES:Our Members' Events
ORGANIZER;CN="Joe Lewis":MAILTO:Joe.Lewis@rockuk.org
END:VEVENT
BEGIN:VEVENT
DTSTART;TZID=Europe/London:20240323T000000
DTEND;TZID=Europe/London:20240323T235959
DTSTAMP:20260419T235748
CREATED:20240220T223030Z
LAST-MODIFIED:20240220T223355Z
UID:8972-1711152000-1711238399@swoapg.com
SUMMARY:23 Mar 2024 British Canoeing Awarding Body Paddlesport Safety & Rescue course (by Steve Rayner Outdoor Pursuits)
DESCRIPTION:The British Canoeing Awarding Body (BCAB) Paddlesport Safety & Rescue course aims to provide paddlers with the key safety and rescue skills required to operate safely and to be able to deal with common problems in a sheltered water environment. The course is designed for all paddlers irrespective of their chosen craft. The objective is to introduce\, explore and practise simple strategies and safe skills that can provide you with the tools to solve common paddling issues. \n\n\n\nThe Paddlesport Safety & Rescue course is a pre-requisite for the British Canoeing Awarding Body Paddlesport Instructor Award. \n\n\n\nNo minimum age (although paddlers must be physically able to undertake the course!). \n\n\n\n£100 each. Contact organiser or follow link to book places or find out more.
URL:https://swoapg.com/event/23-mar-2024-british-canoeing-awarding-body-paddlesport-safety-rescue-course-by-steve-rayner-outdoor-pursuits/
CATEGORIES:Our Members' Events
ORGANIZER;CN="Steve Rayner Outdoor Pursuits":MAILTO:steve.rayner@brynbolgoed.co.uk
END:VEVENT
BEGIN:VEVENT
DTSTART;TZID=Europe/London:20240320T000000
DTEND;TZID=Europe/London:20240322T235959
DTSTAMP:20260419T235748
CREATED:20231002T122659Z
LAST-MODIFIED:20231002T122703Z
UID:8366-1710892800-1711151999@swoapg.com
SUMMARY:20-22 Mar 2024 Hill & Moorland Leader Assessment (by Outdoor Matters)
DESCRIPTION:Join us for 3 days demonstrating the skills and knowledge required to lead groups in Hill & Moorland terrain in the UK. We run a calm and relaxed assessment where you are given the opportunity to perform at your best and encouraged to learn something new too. \n\n\n\n£260\, Abercraf
URL:https://swoapg.com/event/20-22-mar-2024-hill-moorland-leader-assessment-by-outdoor-matters/
CATEGORIES:Our Members' Events
ORGANIZER;CN="Outdoor Matters (Matt Woodfield)":MAILTO:climbwithmatt@gmail.com
END:VEVENT
BEGIN:VEVENT
DTSTART;TZID=Europe/London:20240319T100000
DTEND;TZID=Europe/London:20240319T210000
DTSTAMP:20260419T235748
CREATED:20231207T093623Z
LAST-MODIFIED:20240209T223508Z
UID:8648-1710842400-1710882000@swoapg.com
SUMMARY:19 Mar 2024 CPD Workshop: Learn about...Porth yr Ogof
DESCRIPTION:This workshop is intended for instructors who’d like to learn more about Porth yr Ogof. We’ve secured the support of several Cave Instructors as well as Alan Bowring of BBNPA and we will be offering three separate sessions (10am-1pm\, 2-5pm and 6-9pm) with the following topics covered in each session (subject to sufficient demand): \n\n\n\n\nCave familiarisation (for those who may not know it well);\n\n\n\nExplore lesser-known parts of the cave (for those who do!);\n\n\n\nCave geology;\n\n\n\nAvoiding and/or using the water;\n\n\n\nUsing the avens (familiarisation for ‘Level 1’ and – for those of you with ‘vertical’ aptitude & equipment – ‘Level 2’ ropework)\n\n\n\n\nThe workshop will be open to staff employed by SWOAPG Members (initially limited to 3 per business/organisation\, depending on capacity and demand); freelancers need to be Associate Members at least. \nPrice £20 for one session\, £35 for 2 sessions\, £45 for 3 sessions. \nBook ‘tickets’ using the buttons below AND please complete this Session Preference Form (apologies for the 2-stage process) – or e-mail coordinator@swoapg.com if the tickets don’t seem to offer what you want!
URL:https://swoapg.com/event/19-mar-2024-cpd-workshop-learn-about-porth-yr-ogof/
LOCATION:Cwm Porth Car Park\, Ystradfellte\, United Kingdom
CATEGORIES:SWOAPG's Own Events
ORGANIZER;CN="SWOAPG Coordinator":MAILTO:coordinator@swoapg.com
END:VEVENT
BEGIN:VEVENT
DTSTART;TZID=Europe/London:20240317T000000
DTEND;TZID=Europe/London:20240317T235959
DTSTAMP:20260419T235748
CREATED:20231114T212256Z
LAST-MODIFIED:20231114T212259Z
UID:8542-1710633600-1710719999@swoapg.com
SUMMARY:17 Mar 2024 BMC FUNdamentals of Climbing 2 (at RockUK Summit Centre)
DESCRIPTION:Cost: £90.00 – £110.00 pp \n\n\n\nProvider: Danielle Griffith
URL:https://swoapg.com/event/17-mar-2024-bmc-fundamentals-of-climbing-2-at-rockuk-summit-centre/
LOCATION:RockUK Summit Centre\, The Old Drift Mine\, Treharris\, CF46 6RD\, United Kingdom
CATEGORIES:Our Members' Events
ORGANIZER;CN="Joe Lewis":MAILTO:Joe.Lewis@rockuk.org
END:VEVENT
BEGIN:VEVENT
DTSTART;TZID=Europe/London:20240316T000000
DTEND;TZID=Europe/London:20240317T235959
DTSTAMP:20260419T235748
CREATED:20231002T122544Z
LAST-MODIFIED:20231002T122547Z
UID:8364-1710547200-1710719999@swoapg.com
SUMMARY:16-17 Mar 2024 Lowland Leader Training (by Outdoor Matters)
DESCRIPTION:Join us for 2 days building the skills and knowledge required to lead groups in Lowland terrain in the UK. This Mountain Training approved course is run by an experienced trainer and includes post course support and learning material.  \n\n\n\n£160\, Gower
URL:https://swoapg.com/event/16-17-mar-2024-lowland-leader-training-by-outdoor-matters/
CATEGORIES:Our Members' Events
ORGANIZER;CN="Outdoor Matters (Matt Woodfield)":MAILTO:climbwithmatt@gmail.com
END:VEVENT
BEGIN:VEVENT
DTSTART;TZID=Europe/London:20240316T000000
DTEND;TZID=Europe/London:20240316T235959
DTSTAMP:20260419T235748
CREATED:20231114T212137Z
LAST-MODIFIED:20231114T212140Z
UID:8540-1710547200-1710633599@swoapg.com
SUMMARY:16 Mar 2024 BMC FUNdamentals of Climbing 1 (at RockUK Summit Centre)
DESCRIPTION:Cost £90.00 – £110.00 pp \n\n\n\nProvider: Danielle Griffith
URL:https://swoapg.com/event/16-mar-2024-bmc-fundamentals-of-climbing-1-at-rockuk-summit-centre/
LOCATION:RockUK Summit Centre\, The Old Drift Mine\, Treharris\, CF46 6RD\, United Kingdom
CATEGORIES:Our Members' Events
ORGANIZER;CN="Joe Lewis":MAILTO:Joe.Lewis@rockuk.org
END:VEVENT
BEGIN:VEVENT
DTSTART;TZID=Europe/London:20240315T000000
DTEND;TZID=Europe/London:20240315T235959
DTSTAMP:20260419T235748
CREATED:20240130T202441Z
LAST-MODIFIED:20240131T054318Z
UID:8791-1710460800-1710547199@swoapg.com
SUMMARY:15 Mar 2024 National Coasteering Charter pre-season Workshop - open to all coasteering providers (by Tom Partridge for NCC)
DESCRIPTION:This workshop (and a similar one on 2 March) will have a practical element to them where we will look at rescues and scenarios as part of the training but also there will be a session on the day looking at communication methods and the updated ‘Safety Advice for Coasteering Providers’ which will have been approved by the NCC membership by this point.  \n\n\n\nNCC members are free\, non members are £20 (or you can join the NCC!) \n\n\n\nBook online or by e-mail via the ‘organiser’ details…
URL:https://swoapg.com/event/national-coasteering-charter-workshop-open-to-all-coasteering-providers-by-tom-partridge-for-ncc-2/
CATEGORIES:Our Members' Events
ORGANIZER;CN="Tom Partridge":MAILTO:tompartridge@ymail.com
END:VEVENT
BEGIN:VEVENT
DTSTART;TZID=Europe/London:20240313T000000
DTEND;TZID=Europe/London:20240314T235959
DTSTAMP:20260419T235748
CREATED:20231002T122435Z
LAST-MODIFIED:20231114T212813Z
UID:8362-1710288000-1710460799@swoapg.com
SUMMARY:13-14 Mar 2024 Lowland Leader Assessment (by Outdoor Matters)
DESCRIPTION:Spend 2 days demonstrating the skills and knowledge required to lead groups in Lowland terrain in the UK. We run a calm and relaxed assessment where you are given the opportunity to perform at your best and encouraged to learn something new too. \n\n\n\n£170\, Gower
URL:https://swoapg.com/event/13-14-mar-2024-lowland-leader-assessment-by-outdoor-matters/
CATEGORIES:Our Members' Events
ORGANIZER;CN="Outdoor Matters (Matt Woodfield)":MAILTO:climbwithmatt@gmail.com
END:VEVENT
BEGIN:VEVENT
DTSTART;TZID=Europe/London:20240309T000000
DTEND;TZID=Europe/London:20240309T235959
DTSTAMP:20260419T235748
CREATED:20231114T212424Z
LAST-MODIFIED:20231114T212427Z
UID:8544-1709942400-1710028799@swoapg.com
SUMMARY:9 Mar 2024 Mountain Training Indoor Climbing Assistant (training and Assessment) (by RockUK Summit Centre)
DESCRIPTION:Cost: £80.00 pp
URL:https://swoapg.com/event/9-mar-2024-mountain-training-indoor-climbing-assistant-training-and-assessment-by-rockuk-summit-centre/
LOCATION:RockUK Summit Centre\, The Old Drift Mine\, Treharris\, CF46 6RD\, United Kingdom
CATEGORIES:Our Members' Events
ORGANIZER;CN="Joe Lewis":MAILTO:Joe.Lewis@rockuk.org
END:VEVENT
END:VCALENDAR